BEGIN:VCALENDAR
VERSION:2.0
PRODID:-//Harrogate School of Theology &amp; Mission - ECPv6.15.20//NONSGML v1.0//EN
CALSCALE:GREGORIAN
METHOD:PUBLISH
X-WR-CALNAME:Harrogate School of Theology &amp; Mission
X-ORIGINAL-URL:https://hstm.org.uk
X-WR-CALDESC:Events for Harrogate School of Theology &amp; Mission
REFRESH-INTERVAL;VALUE=DURATION:PT1H
X-Robots-Tag:noindex
X-PUBLISHED-TTL:PT1H
BEGIN:VTIMEZONE
TZID:Europe/London
BEGIN:DAYLIGHT
TZOFFSETFROM:+0000
TZOFFSETTO:+0100
TZNAME:BST
DTSTART:20220327T010000
END:DAYLIGHT
BEGIN:STANDARD
TZOFFSETFROM:+0100
TZOFFSETTO:+0000
TZNAME:GMT
DTSTART:20221030T010000
END:STANDARD
BEGIN:DAYLIGHT
TZOFFSETFROM:+0000
TZOFFSETTO:+0100
TZNAME:BST
DTSTART:20230326T010000
END:DAYLIGHT
BEGIN:STANDARD
TZOFFSETFROM:+0100
TZOFFSETTO:+0000
TZNAME:GMT
DTSTART:20231029T010000
END:STANDARD
BEGIN:DAYLIGHT
TZOFFSETFROM:+0000
TZOFFSETTO:+0100
TZNAME:BST
DTSTART:20240331T010000
END:DAYLIGHT
BEGIN:STANDARD
TZOFFSETFROM:+0100
TZOFFSETTO:+0000
TZNAME:GMT
DTSTART:20241027T010000
END:STANDARD
BEGIN:DAYLIGHT
TZOFFSETFROM:+0000
TZOFFSETTO:+0100
TZNAME:BST
DTSTART:20250330T010000
END:DAYLIGHT
BEGIN:STANDARD
TZOFFSETFROM:+0100
TZOFFSETTO:+0000
TZNAME:GMT
DTSTART:20251026T010000
END:STANDARD
END:VTIMEZONE
BEGIN:VEVENT
DTSTART;TZID=Europe/London:20241031T193000
DTEND;TZID=Europe/London:20241031T203000
DTSTAMP:20260421T094301
CREATED:20240913T154329Z
LAST-MODIFIED:20250419T073837Z
UID:1506-1730403000-1730406600@hstm.org.uk
SUMMARY:Re-reading the Gospel of John : A 6-month journey in 2024/25
DESCRIPTION:Re-reading the Gospel of John : Invitation to a 6-Month Journey in a Group with a Guidebook\n\n\n\nVenue:\nOnline (Zoom)\nPre-requisites:\nA copy of David Ford’s commentary\nTimes:\n7.30 – 8.30pm\nDates:\nThursdays evenings from 31st October to Mar/Apr. \n\nWeek 1 [John 1:1-18]\nWeek 2 [John 1:19-51]\nWeek 3 [John 2]\nWeek 4 [John 3]\nWeek 5 [John 4]\nWeek 6 [John 5]\nWeek 7 [John 6]\nWeek 8 [John 7]\nWeek 9 [John 8]\nWeek 10 [John 9]\nWeek 11 [John 10]\nWeek 12 [John 11]\nWeek 13 [John 12]\nWeek 14 [John 13]\nWeek 15 [John 14]\nWeek 16 [John 16]\nWeek 17 [John 16]\nWeek 18 [John 17]\nWeek 19 [John 18]\nWeek 20 [John 19]\nWeek 21 [John 20]\nWeek 22 [John 21]\n\n\nRegistration:\nNow closed for 2024/25\n\n\n\nThe Gospel of John is profound\, intriguing\, fascinating\, and mysterious. \nOne of the most insightful and gripping attempts to do it justice is Prof David Ford’s The Gospel of John – A Theological Commentary published two years ago. \nUnlike most commentaries\, this can be read as literature. The style is conversational: it works not verse by verse\, but chapter by chapter. You can read a review of Prof Ford’s book in Church Times. \nOver six months we will read a chapter per week of David Ford’s commentary and meet on-line once a week to discuss it with fellow learners for an hour. \nComments from 2023/24\n“The Gospel of John discussions became something of a focal point around which my week was orientated.  Each interesting and enlightening discussion took place in a welcoming and supportive atmosphere under the expert guidance of our group leader\, and I look forward to doing something similar again soon.”\nPaul\n\n“The weekly discussion sessions on Ford’s commentary have been a rich opportunity in which to explore our individual and group thoughts and responses. The meetings have provided a safe and supportive context for careful listening and deep sharing.”\nBeverley and Dennis\nRegistration is now closed for 2024/25
URL:https://hstm.org.uk/event/gospel-of-john-2024-25/
LOCATION:On-line by zoom only
CATEGORIES:Study Group
ATTACH;FMTTYPE=image/jpeg:https://hstm.org.uk/wp-content/uploads/2023/08/1540964086-e1697791310911.jpg
END:VEVENT
BEGIN:VEVENT
DTSTART;VALUE=DATE:20231015
DTEND;VALUE=DATE:20231017
DTSTAMP:20260421T094301
CREATED:20230825T092618Z
LAST-MODIFIED:20250419T073829Z
UID:1230-1697331600-1697417999@hstm.org.uk
SUMMARY:Re-reading the Gospel of John : A 6-month journey in 2023/24 [FULLY BOOKED]
DESCRIPTION:Re-reading the Gospel of John : Invitation to a 6-Month Journey in a Group with a Guidebook\n\n\n\nVenue:\nOnline (Zoom)\nPre-requisites:\nA copy of David Ford’s commentary\nTimes:\nEvenings\nDates:\nSunday or Thursday evenings from Oct/Nov to Mar/Apr. \n\nWeek 1 [John 1:1-18]\nWeek 2 [John 1:19-51]\nWeek 3 [John 2]\nWeek 4 [John 3]\nWeek 5 [John 4]\nWeek 6 [John 5]\nWeek 7 [John 6]\nWeek 8 [John 7]\nWeek 9 [John 8]\nWeek 10 [John 9]\nWeek 11 [John 10]\nWeek 12 [John 11]\nWeek 13 [John 12]\nWeek 14 [John 13]\nWeek 15 [John 14]\nWeek 16 [John 16]\nWeek 17 [John 16]\nWeek 18 [John 17]\nWeek 19 [John 18]\nWeek 20 [John 19]\nWeek 21 [John 20]\nWeek 22 [John 21]\n\n\nRegister:\nRegistration now closed for 2023/24\n\n\n\n\nThe Gospel of John is profound\, intriguing\, fascinating\, and mysterious. \nOne of the most insightful and gripping attempts to do it justice is Prof David Ford’s The Gospel of John – A Theological Commentary published two years ago. \nUnlike most commentaries\, this can be read as literature. The style is conversational: it works not verse by verse\, but chapter by chapter. You can read a review of Prof Ford’s book in Church Times. \nOver six months we will read a chapter per week of David Ford’s commentary and meet on-line once a week to discuss it with fellow learners for an hour.
URL:https://hstm.org.uk/event/gospel-john-2023-24/
LOCATION:On-line by zoom only
CATEGORIES:Study Group
ATTACH;FMTTYPE=image/jpeg:https://hstm.org.uk/wp-content/uploads/2023/08/1540964086-e1697791310911.jpg
END:VEVENT
END:VCALENDAR