BEGIN:VCALENDAR
VERSION:2.0
PRODID:-//Harrogate School of Theology &amp; Mission - ECPv6.15.20//NONSGML v1.0//EN
CALSCALE:GREGORIAN
METHOD:PUBLISH
X-WR-CALNAME:Harrogate School of Theology &amp; Mission
X-ORIGINAL-URL:https://hstm.org.uk
X-WR-CALDESC:Events for Harrogate School of Theology &amp; Mission
REFRESH-INTERVAL;VALUE=DURATION:PT1H
X-Robots-Tag:noindex
X-PUBLISHED-TTL:PT1H
BEGIN:VTIMEZONE
TZID:Europe/London
BEGIN:DAYLIGHT
TZOFFSETFROM:+0000
TZOFFSETTO:+0100
TZNAME:BST
DTSTART:20130331T010000
END:DAYLIGHT
BEGIN:STANDARD
TZOFFSETFROM:+0100
TZOFFSETTO:+0000
TZNAME:GMT
DTSTART:20131027T010000
END:STANDARD
BEGIN:DAYLIGHT
TZOFFSETFROM:+0000
TZOFFSETTO:+0100
TZNAME:BST
DTSTART:20140330T010000
END:DAYLIGHT
BEGIN:STANDARD
TZOFFSETFROM:+0100
TZOFFSETTO:+0000
TZNAME:GMT
DTSTART:20141026T010000
END:STANDARD
BEGIN:DAYLIGHT
TZOFFSETFROM:+0000
TZOFFSETTO:+0100
TZNAME:BST
DTSTART:20150329T010000
END:DAYLIGHT
BEGIN:STANDARD
TZOFFSETFROM:+0100
TZOFFSETTO:+0000
TZNAME:GMT
DTSTART:20151025T010000
END:STANDARD
BEGIN:DAYLIGHT
TZOFFSETFROM:+0000
TZOFFSETTO:+0100
TZNAME:BST
DTSTART:20160327T010000
END:DAYLIGHT
BEGIN:STANDARD
TZOFFSETFROM:+0100
TZOFFSETTO:+0000
TZNAME:GMT
DTSTART:20161030T010000
END:STANDARD
END:VTIMEZONE
BEGIN:VEVENT
DTSTART;TZID=Europe/London:20150506T100000
DTEND;TZID=Europe/London:20150506T120000
DTSTAMP:20260425T204507
CREATED:20250419T063426Z
LAST-MODIFIED:20250419T070811Z
UID:1673-1430906400-1430913600@hstm.org.uk
SUMMARY:Mark Roques: "Celebrity\, theology & Mission"
DESCRIPTION:How can conversations about Paris Hilton and Russell Brand help us to do mission and discipleship? Can we connect the world of celebrity culture to theology and the gospel story? Does Jesus have anything to say to Simon Cowell and Rihanna?  \nMark has spent many years pioneering fresh ways of communicating the Christian faith to a secular audience. He has spoken to thousands of teachers\, youth workers and young people all over the world. He delivers courses to Readers\, Pastoral Workers and evangelists and is a tutor for York St John University. He is an author\, storyteller\, philosopher and is the Director of Reality Bites which is the national training ministry of the West Yorkshire School of Christian Studies.
URL:https://hstm.org.uk/event/2015-mark-roques/
CATEGORIES:Live Lectures
END:VEVENT
BEGIN:VEVENT
DTSTART;TZID=Europe/London:20150418T100000
DTEND;TZID=Europe/London:20150418T120000
DTSTAMP:20260425T204507
CREATED:20250419T063303Z
LAST-MODIFIED:20250419T070801Z
UID:1670-1429351200-1429358400@hstm.org.uk
SUMMARY:Richard Bauckham: "The Gospels and the Eyewitnesses"
DESCRIPTION:Professor Richard Bauckham Emeritus Professor of New Testament Studies\, University of St Andrews & Senior Scholar\, Ridley Hall\, Cambridge.  Professor Bauckham’s topic will be The Gospels and the Eyewitnesses.
URL:https://hstm.org.uk/event/2015-richard-bauckham/
CATEGORIES:Live Lectures
END:VEVENT
BEGIN:VEVENT
DTSTART;TZID=Europe/London:20150207T100000
DTEND;TZID=Europe/London:20150207T120000
DTSTAMP:20260425T204507
CREATED:20250419T063111Z
LAST-MODIFIED:20250419T070748Z
UID:1668-1423303200-1423310400@hstm.org.uk
SUMMARY:Bishop Nick Baines: "Flesh made word: communicating the Gospel in a digital age"
DESCRIPTION:Flesh made word: communicating the Gospel in a digital age \nBishop Nick is a lively and provocative thinker so this should be a very worthwhile occasion. Whatever your denominational allegiance it is an excellent opportunity to discover what a relatively newly appointed leader of a huge new Anglican Diocese really thinks about evangelism and apologetics in our contemporary cultural context
URL:https://hstm.org.uk/event/2015-nick-baines/
CATEGORIES:Live Lectures
END:VEVENT
BEGIN:VEVENT
DTSTART;TZID=Europe/London:20141115T100000
DTEND;TZID=Europe/London:20141115T120000
DTSTAMP:20260425T204507
CREATED:20250419T062736Z
LAST-MODIFIED:20250419T070654Z
UID:1666-1416045600-1416052800@hstm.org.uk
SUMMARY:Revd Dr Ian Paul: "The Relevance of Revelation"
DESCRIPTION:The Relevance of Revelation
URL:https://hstm.org.uk/event/2014-ian-paul/
CATEGORIES:Live Lectures
END:VEVENT
END:VCALENDAR