BEGIN:VCALENDAR
VERSION:2.0
PRODID:-//Harrogate School of Theology &amp; Mission - ECPv6.15.20//NONSGML v1.0//EN
CALSCALE:GREGORIAN
METHOD:PUBLISH
X-WR-CALNAME:Harrogate School of Theology &amp; Mission
X-ORIGINAL-URL:https://hstm.org.uk
X-WR-CALDESC:Events for Harrogate School of Theology &amp; Mission
REFRESH-INTERVAL;VALUE=DURATION:PT1H
X-Robots-Tag:noindex
X-PUBLISHED-TTL:PT1H
BEGIN:VTIMEZONE
TZID:Europe/London
BEGIN:DAYLIGHT
TZOFFSETFROM:+0000
TZOFFSETTO:+0100
TZNAME:BST
DTSTART:20230326T010000
END:DAYLIGHT
BEGIN:STANDARD
TZOFFSETFROM:+0100
TZOFFSETTO:+0000
TZNAME:GMT
DTSTART:20231029T010000
END:STANDARD
BEGIN:DAYLIGHT
TZOFFSETFROM:+0000
TZOFFSETTO:+0100
TZNAME:BST
DTSTART:20240331T010000
END:DAYLIGHT
BEGIN:STANDARD
TZOFFSETFROM:+0100
TZOFFSETTO:+0000
TZNAME:GMT
DTSTART:20241027T010000
END:STANDARD
BEGIN:DAYLIGHT
TZOFFSETFROM:+0000
TZOFFSETTO:+0100
TZNAME:BST
DTSTART:20250330T010000
END:DAYLIGHT
BEGIN:STANDARD
TZOFFSETFROM:+0100
TZOFFSETTO:+0000
TZNAME:GMT
DTSTART:20251026T010000
END:STANDARD
END:VTIMEZONE
BEGIN:VEVENT
DTSTART;TZID=Europe/London:20241123T100000
DTEND;TZID=Europe/London:20241123T120000
DTSTAMP:20260426T031423
CREATED:20240522T185642Z
LAST-MODIFIED:20250421T061606Z
UID:1441-1732356000-1732363200@hstm.org.uk
SUMMARY:Lecture - Alan Garrow
DESCRIPTION:The Didache Discoveries: Two Missing Books of the Bible (live lecture)\n\n\n\nVenue:\nSt Mark’s Church\, Leeds Road\, Harrogate (& Zoom option)\nDate:\nSaturday 23rd November 2024\, 10.00 – 12.00 noon with breakfast available from 9.30 am\nTickets:\nThis event has now passed\n\n\n\nAlan has recorded an introductory video on YouTube – see below \nIn 1873 Archbishop Philotheos Bryennios discovered the only surviving copy of a text called ‘The Didache’ or ‘The Teaching of the Lord\, by the Twelve Apostles\, to the Gentiles’. This book nearly achieved inclusion in the New Testament canon. After it was placed in the ‘second rank’\, it disappeared for well over a thousand years. Since its rediscovery it has baffled scholars. No one has been able to work out who wrote it\, when\, where or why. In this lecture Alan Garrow presents a new solution to the puzzle. The Didache is not a single text. Instead\, it is two that have been spliced together and overlaid with additional material. When that process is reversed two ancient treasures emerge. The first is the Complete Apostolic Decree (mentioned in Acts 15)\, the earliest Christian document and the text that set Christianity on course to become a religion separate from Judaism. The second is the Missing Epistle of John (mentioned in 3 John 9)\, a text that helps illuminate doctrines and practices that remain essential for Christians today. \nSpeaker Bio \nAlan Garrow is Vicar of St Peter’s Harrogate and a Member of the Sheffield Centre for Interdisciplinary Biblical Studies. He has published widely in the field of New Testament studies and has a particular interest in how the New Testament texts were used in early Christian worship. More information about his research and writing is available at www.alangarrow.com.
URL:https://hstm.org.uk/event/2024-alan-garrow/
LOCATION:St Mark’s Church\, Leeds Road\, Harrogate\, HG2 8AY\, United Kingdom
CATEGORIES:Live Lectures
ATTACH;FMTTYPE=image/jpeg:https://hstm.org.uk/wp-content/uploads/2023/01/Alan-Headshot-Square-e1716406211224.jpg
END:VEVENT
END:VCALENDAR