BEGIN:VCALENDAR
VERSION:2.0
PRODID:-//Harrogate School of Theology &amp; Mission - ECPv6.15.20//NONSGML v1.0//EN
CALSCALE:GREGORIAN
METHOD:PUBLISH
X-ORIGINAL-URL:https://hstm.org.uk
X-WR-CALDESC:Events for Harrogate School of Theology &amp; Mission
REFRESH-INTERVAL;VALUE=DURATION:PT1H
X-Robots-Tag:noindex
X-PUBLISHED-TTL:PT1H
BEGIN:VTIMEZONE
TZID:Europe/London
BEGIN:DAYLIGHT
TZOFFSETFROM:+0000
TZOFFSETTO:+0100
TZNAME:BST
DTSTART:20240331T010000
END:DAYLIGHT
BEGIN:STANDARD
TZOFFSETFROM:+0100
TZOFFSETTO:+0000
TZNAME:GMT
DTSTART:20241027T010000
END:STANDARD
BEGIN:DAYLIGHT
TZOFFSETFROM:+0000
TZOFFSETTO:+0100
TZNAME:BST
DTSTART:20250330T010000
END:DAYLIGHT
BEGIN:STANDARD
TZOFFSETFROM:+0100
TZOFFSETTO:+0000
TZNAME:GMT
DTSTART:20251026T010000
END:STANDARD
BEGIN:DAYLIGHT
TZOFFSETFROM:+0000
TZOFFSETTO:+0100
TZNAME:BST
DTSTART:20260329T010000
END:DAYLIGHT
BEGIN:STANDARD
TZOFFSETFROM:+0100
TZOFFSETTO:+0000
TZNAME:GMT
DTSTART:20261025T010000
END:STANDARD
END:VTIMEZONE
BEGIN:VEVENT
DTSTART;TZID=Europe/London:20250322T100000
DTEND;TZID=Europe/London:20250322T120000
DTSTAMP:20260425T202558
CREATED:20240522T190019Z
LAST-MODIFIED:20250421T061450Z
UID:1446-1742637600-1742644800@hstm.org.uk
SUMMARY:Lecture - Nicola Slee
DESCRIPTION:Abba Amma: Improvisations on the Lord’s Prayer (live lecture)\n\n\n\nVenue:\nSt Mark’s Church\, Leeds Road\, Harrogate (& Zoom option)\nDate:\nSaturday 22th March 2025\, 10.00 – 12.00 noon with breakfast available from 9.30 am\nTickets:\nThis event has now passed\n\n\n\nThe Lord’s Prayer is a prayer text and practice that unites Christians worldwide and puts us in touch with Jesus and Christians throughout the ages. People of other faiths and traditions are also drawn to this prayer.  But how do we pray this prayer today\, in light of our growing awareness of the dangers of patriarchal and monarchical language and thinking?   In this lecture\, Nicola Slee will share something of her own journey with the Lord’s Prayer and suggest that we are called\, not so much to repeat the prayer unvaryingly\, as to live in its pattern and improvise around it to find our own authentic way of praying and our own authentic relationship to the Abba Amma God of Jesus.  \nSpeaker Bio \nProfessor Nicola Slee is a well-known writer and speaker\, theologian and poet.  She is Professorial Research Fellow at the Queen’s Foundation for Ecumenical Theological Education\, Birmingham and Professor of Feminist Practical Theology at the Vrije Universiteit\, Amsterdam.  The lecture will be based on Nicola’s recent book of the same name\, and she will bring copies to sell at a discount
URL:https://hstm.org.uk/event/2025-nicola-slee/
LOCATION:St Mark’s Church\, Leeds Road\, Harrogate\, HG2 8AY\, United Kingdom
CATEGORIES:Live Lectures
ATTACH;FMTTYPE=image/jpeg:https://hstm.org.uk/wp-content/uploads/2024/05/Nicola-Slee-416x360-1-e1716406388376.jpg
END:VEVENT
END:VCALENDAR